BEGIN:VCALENDAR
VERSION:2.0
PRODID:SchoolNow
CALSCALE:GREGORIAN
BEGIN:VEVENT
UID:74db5050-17f0-11f1-9729-0a58a9feac02
DTSTAMP:20260325T095017Z
SUMMARY:CDD Board Meeting - Mar. 2026
LOCATION:The SpringHill Suites by Marriott Bradenton Downtown/Riverfront lo
 cated  at 102 12th Street West\, Bradenton\, Florida 34205
URL;VALUE=URI:https://www.villagesofglencreekcdd.org/calendar/8890952/cdd-b
 oard-meeting-mar-2026-clone
DTSTART:20260325T150000Z
DTEND:20260325T160000Z
ATTACH;FILENAME=2026-03-25 Villages of Glen Creek Revised Final Agenda.pdf;
 FMTTYPE=application/pdf:https://campussuite-storage.s3.amazonaws.com/prod/
 1558810/4ba24652-a7e1-11e9-a193-0a68ab9c99d0/3083130/00d86ff8-2830-11f1-a9
 e1-0a58a9feac02/file/2026-03-25 Villages of Glen Creek Revised Final Agend
 a.pdf
END:VEVENT
END:VCALENDAR
