BEGIN:VCALENDAR
VERSION:2.0
PRODID:SchoolNow
CALSCALE:GREGORIAN
BEGIN:VEVENT
UID:e962e364-05d2-11ec-9543-0ea245c3b317
DTSTAMP:20210923T165540Z
SUMMARY:CDD Board Meeting - Oct. 2021 - Canceled
LOCATION:Springhill Marriott Bradenton Downtown/Riverfront\, 102 12th St. W
 .\, Bradenton\, Florida 34205
URL;VALUE=URI:https://www.villagesofglencreekcdd.org/calendar/2688660/cdd-b
 oard-meeting-sept-2021-clone
DTSTART:20211026T220000Z
DTEND:20211026T230000Z
END:VEVENT
END:VCALENDAR
